BEGIN:VCALENDAR
VERSION:2.0
PRODID:-//PVREA - ECPv6.15.14//NONSGML v1.0//EN
CALSCALE:GREGORIAN
METHOD:PUBLISH
X-WR-CALNAME:PVREA
X-ORIGINAL-URL:https://pvrea.coop
X-WR-CALDESC:Events for PVREA
REFRESH-INTERVAL;VALUE=DURATION:PT1H
X-Robots-Tag:noindex
X-PUBLISHED-TTL:PT1H
BEGIN:VTIMEZONE
TZID:America/Denver
BEGIN:DAYLIGHT
TZOFFSETFROM:-0700
TZOFFSETTO:-0600
TZNAME:MDT
DTSTART:20230312T090000
END:DAYLIGHT
BEGIN:STANDARD
TZOFFSETFROM:-0600
TZOFFSETTO:-0700
TZNAME:MST
DTSTART:20231105T080000
END:STANDARD
BEGIN:DAYLIGHT
TZOFFSETFROM:-0700
TZOFFSETTO:-0600
TZNAME:MDT
DTSTART:20240310T090000
END:DAYLIGHT
BEGIN:STANDARD
TZOFFSETFROM:-0600
TZOFFSETTO:-0700
TZNAME:MST
DTSTART:20241103T080000
END:STANDARD
BEGIN:DAYLIGHT
TZOFFSETFROM:-0700
TZOFFSETTO:-0600
TZNAME:MDT
DTSTART:20250309T090000
END:DAYLIGHT
BEGIN:STANDARD
TZOFFSETFROM:-0600
TZOFFSETTO:-0700
TZNAME:MST
DTSTART:20251102T080000
END:STANDARD
END:VTIMEZONE
BEGIN:VEVENT
DTSTART;TZID=America/Denver:20240802T160000
DTEND;TZID=America/Denver:20240805T230000
DTSTAMP:20260422T084052
CREATED:20230621T143549Z
LAST-MODIFIED:20240522T173241Z
UID:10000058-1722614400-1722898800@pvrea.coop
SUMMARY:Larimer County Fair
DESCRIPTION:
URL:https://pvrea.coop/event/larimer-county-fair-2/
LOCATION:The Ranch\, 5280 Arena Circle\, Loveland\, CO\, 80538\, United States
END:VEVENT
BEGIN:VEVENT
DTSTART;TZID=America/Denver:20240815T183000
DTEND;TZID=America/Denver:20240815T203000
DTSTAMP:20260422T084052
CREATED:20240814T144551Z
LAST-MODIFIED:20240814T144642Z
UID:10000080-1723746600-1723753800@pvrea.coop
SUMMARY:Windsor Summer Concert Series Final Show Of 2024
DESCRIPTION:
URL:https://pvrea.coop/event/windsor-summer-concert-series-2-2-2-2-2-2-2-3-2/
LOCATION:Boardwalk Park\, 100 N 5th St\, Windsor\, CO\, 80550\, United States
END:VEVENT
BEGIN:VEVENT
DTSTART;TZID=America/Denver:20240824T100000
DTEND;TZID=America/Denver:20240824T210000
DTSTAMP:20260422T084052
CREATED:20230621T191252Z
LAST-MODIFIED:20240522T173419Z
UID:10000065-1724493600-1724533200@pvrea.coop
SUMMARY:Severance Days
DESCRIPTION:
URL:https://pvrea.coop/event/severance-days/
LOCATION:Severance Community Park\, 100 Waterfowl Wy\, Severance\, CO\, 80550\, United States
END:VEVENT
END:VCALENDAR